BEGIN:VCALENDAR
VERSION:2.0
PRODID:-//SCTCA - ECPv6.8.3//NONSGML v1.0//EN
CALSCALE:GREGORIAN
METHOD:PUBLISH
X-ORIGINAL-URL:https://sctca.net
X-WR-CALDESC:Events for SCTCA
REFRESH-INTERVAL;VALUE=DURATION:PT1H
X-Robots-Tag:noindex
X-PUBLISHED-TTL:PT1H
BEGIN:VTIMEZONE
TZID:America/Los_Angeles
BEGIN:DAYLIGHT
TZOFFSETFROM:-0800
TZOFFSETTO:-0700
TZNAME:PDT
DTSTART:20250309T100000
END:DAYLIGHT
BEGIN:STANDARD
TZOFFSETFROM:-0700
TZOFFSETTO:-0800
TZNAME:PST
DTSTART:20251102T090000
END:STANDARD
END:VTIMEZONE
BEGIN:VEVENT
DTSTART;TZID=America/Los_Angeles:20251206T120000
DTEND;TZID=America/Los_Angeles:20251206T150000
DTSTAMP:20260423T042650
CREATED:20251130T224148Z
LAST-MODIFIED:20251130T224148Z
UID:44894-1765022400-1765033200@sctca.net
SUMMARY:2025 Winter Gathering
DESCRIPTION:
URL:https://sctca.net/flyer/2025-winter-gathering/
ATTACH;FMTTYPE=image/jpeg:https://sctca.net/wp-content/uploads/unnamed-2.jpg
END:VEVENT
BEGIN:VEVENT
DTSTART;TZID=America/Los_Angeles:20251210T173000
DTEND;TZID=America/Los_Angeles:20251210T200000
DTSTAMP:20260423T042650
CREATED:20251210T212740Z
LAST-MODIFIED:20251210T212740Z
UID:45050-1765387800-1765396800@sctca.net
SUMMARY:Learn to Bird Sing
DESCRIPTION:
URL:https://sctca.net/flyer/learn-to-bird-sing-2/
ATTACH;FMTTYPE=image/png:https://sctca.net/wp-content/uploads/dec_ihc_poster_for_online.png
END:VEVENT
BEGIN:VEVENT
DTSTART;VALUE=DATE:20251212
DTEND;VALUE=DATE:20251213
DTSTAMP:20260423T042650
CREATED:20251210T212555Z
LAST-MODIFIED:20251210T212634Z
UID:45047-1765497600-1765583999@sctca.net
SUMMARY:IHC Embrace an Elder Angel Tree
DESCRIPTION:Exciting News!\nToday is the day—our Embrace an Elder Tree is up and ready in the Medical Department lobby! 🌟\nEach ornament on the tree has a number that corresponds to an elder’s name and gender. If you’re interested in selecting a gift for an elder\, please stop by the front desk for more details.\nLet’s come together to make this season special for our elders! \nGift Drop-Off Deadline: Friday\, December 12
URL:https://sctca.net/flyer/ihc-embrace-an-elder-tree/
ATTACH;FMTTYPE=image/jpeg:https://sctca.net/wp-content/uploads/embrace_an_elder_angel_tree_01.jpg
END:VEVENT
BEGIN:VEVENT
DTSTART;VALUE=DATE:20251216
DTEND;VALUE=DATE:20251217
DTSTAMP:20260423T042650
CREATED:20251210T212401Z
LAST-MODIFIED:20251210T212401Z
UID:45045-1765843200-1765929599@sctca.net
SUMMARY:Tribal Family Services (TFS) Angel Tree
DESCRIPTION:
URL:https://sctca.net/flyer/tribal-family-services-tfs-angel-tree/
ATTACH;FMTTYPE=image/jpeg:https://sctca.net/wp-content/uploads/angel_tree_2025_tfs_4x5.jpg
END:VEVENT
BEGIN:VEVENT
DTSTART;TZID=America/Los_Angeles:20251217T100000
DTEND;TZID=America/Los_Angeles:20251217T110000
DTSTAMP:20260423T042650
CREATED:20251210T212921Z
LAST-MODIFIED:20251210T212921Z
UID:45052-1765965600-1765969200@sctca.net
SUMMARY:Breastfeeding Support Group
DESCRIPTION:
URL:https://sctca.net/flyer/breastfeeding-support-group-14/
ATTACH;FMTTYPE=image/png:https://sctca.net/wp-content/uploads/breastfeeding_support_group__fall_2025_flyer.png
END:VEVENT
BEGIN:VEVENT
DTSTART;TZID=America/Los_Angeles:20251217T170000
DTEND;TZID=America/Los_Angeles:20251217T200000
DTSTAMP:20260423T042650
CREATED:20251210T213013Z
LAST-MODIFIED:20251210T213013Z
UID:45054-1765990800-1766001600@sctca.net
SUMMARY:Family Wellness Night
DESCRIPTION:
URL:https://sctca.net/flyer/family-wellness-night-3/
ATTACH;FMTTYPE=image/png:https://sctca.net/wp-content/uploads/wellness_night_dec_2025_social_post_4x5.png
END:VEVENT
END:VCALENDAR