BEGIN:VCALENDAR
VERSION:2.0
PRODID:-//SCTCA - ECPv6.8.3//NONSGML v1.0//EN
CALSCALE:GREGORIAN
METHOD:PUBLISH
X-WR-CALNAME:SCTCA
X-ORIGINAL-URL:https://sctca.net
X-WR-CALDESC:Events for SCTCA
REFRESH-INTERVAL;VALUE=DURATION:PT1H
X-Robots-Tag:noindex
X-PUBLISHED-TTL:PT1H
BEGIN:VTIMEZONE
TZID:America/Los_Angeles
BEGIN:DAYLIGHT
TZOFFSETFROM:-0800
TZOFFSETTO:-0700
TZNAME:PDT
DTSTART:20260308T100000
END:DAYLIGHT
BEGIN:STANDARD
TZOFFSETFROM:-0700
TZOFFSETTO:-0800
TZNAME:PST
DTSTART:20261101T090000
END:STANDARD
END:VTIMEZONE
BEGIN:VEVENT
DTSTART;TZID=America/Los_Angeles:20260424T120000
DTEND;TZID=America/Los_Angeles:20260424T140000
DTSTAMP:20260424T012229
CREATED:20260323T201910Z
LAST-MODIFIED:20260323T201910Z
UID:46638-1777032000-1777039200@sctca.net
SUMMARY:Tech Training for Older Adults
DESCRIPTION:
URL:https://sctca.net/flyer/tech-training-for-older-adults-3/
ATTACH;FMTTYPE=image/png:https://sctca.net/wp-content/uploads/tech_training_for_older_adults_2026_flyer_v02.png
END:VEVENT
BEGIN:VEVENT
DTSTART;TZID=America/Los_Angeles:20260424T170000
DTEND;TZID=America/Los_Angeles:20260424T190000
DTSTAMP:20260424T012229
CREATED:20260323T200020Z
LAST-MODIFIED:20260323T200020Z
UID:46603-1777050000-1777057200@sctca.net
SUMMARY:AIS CICSC Research Symposium
DESCRIPTION:
URL:https://sctca.net/flyer/ais-cicsc-research-symposium/
ATTACH;FMTTYPE=image/png:https://sctca.net/wp-content/uploads/AIS-CICSC-Research-Symposium-4.24.26.png
END:VEVENT
END:VCALENDAR